{
 "currentVersion": 11.3,
 "serviceDescription": "REFERENTIELS/bdortho2017_2_jp2",
 "name": "REFERENTIELS/bdortho2017_2_jp2",
 "description": "",
 "extent": {
  "xmin": 687600,
  "ymin": 1587149.94,
  "xmax": 740519.919,
  "ymax": 1650000,
  "spatialReference": {
   "wkid": 32620,
   "latestWkid": 32620
  }
 },
 "initialExtent": {
  "xmin": 687600,
  "ymin": 1587149.94,
  "xmax": 740519.919,
  "ymax": 1650000,
  "spatialReference": {
   "wkid": 32620,
   "latestWkid": 32620
  }
 },
 "fullExtent": {
  "xmin": 687600,
  "ymin": 1587149.94,
  "xmax": 740519.919,
  "ymax": 1650000,
  "spatialReference": {
   "wkid": 32620,
   "latestWkid": 32620
  }
 },
 "sortableFields": "",
 "bandCount": 3,
 "pixelType": "U8",
 "minValues": [],
 "maxValues": [],
 "meanValues": [],
 "stdvValues": [],
 "hasMultidimensions": false,
 "pixelSizeX": 0.351,
 "pixelSizeY": 0.3510000000000003,
 "meanPixelSize": 0.35100000000000015,
 "datasetFormat": "JP2",
 "uncompressedSize": 80990091420,
 "blockWidth": 2048,
 "blockHeight": 2048,
 "compressionType": "JPEG2000",
 "bandNames": [
  "Band_1",
  "Band_2",
  "Band_3"
 ],
 "allowCopy": true,
 "allowAnalysis": true,
 "itemAccess": false,
 "inspectionCapabilities": "",
 "minPixelSize": 0,
 "maxPixelSize": 0,
 "copyrightText": "",
 "serviceDataType": "esriImageServiceDataTypeRGB",
 "serviceSourceType": "esriImageServiceSourceTypeDataset",
 "objectIdField": "",
 "fields": [],
 "capabilities": "Image,Metadata,Mensuration",
 "defaultMosaicMethod": "Center",
 "allowedMosaicMethods": "",
 "sortField": "",
 "sortValue": null,
 "sortAscending": true,
 "mosaicOperator": "First",
 "defaultCompressionQuality": 75,
 "defaultResamplingMethod": "Bilinear",
 "maxImageHeight": 4100,
 "maxImageWidth": 15000,
 "allowRasterFunction": true,
 "rasterFunctionInfos": [
  {
   "name": "None",
   "description": "",
   "help": ""
  }
 ],
 "rasterTypeInfos": [
  {
   "name": "Raster Dataset",
   "description": "Prend en charge tous les jeux de données raster ArcGIS",
   "help": ""
  }
 ],
 "mensurationCapabilities": "Basic",
 "hasHistograms": false,
 "hasColormap": false,
 "hasRasterAttributeTable": false,
 "minScale": 0,
 "maxScale": 0,
 "exportTilesAllowed": false,
 "supportsStatistics": false,
 "supportsAdvancedQueries": false,
 "editFieldsInfo": null,
 "ownershipBasedAccessControlForRasters": null,
 "allowComputeTiePoints": false,
 "useStandardizedQueries": true,
 "advancedQueryCapabilities": {
  "useStandardizedQueries": true,
  "supportsStatistics": false,
  "supportsOrderBy": false,
  "supportsDistinct": false,
  "supportsPagination": false
 },
 "spatialReference": {
  "wkid": 32620,
  "latestWkid": 32620
 }
}
